BEGIN:VCALENDAR
VERSION:2.0
PRODID:-//Edlio Inc//Edlio Calendar//EN
CALSCALE:GREGORIAN
METHOD:PUBLISH
X-WR-CALNAME:English IV-7 - Passaic Valley Regional High School
X-ORIGINAL-URL:https://www.pvrhs.org
X-WR-CALDESC:Events calendar for www.pvrhs.org
X-WR-TIMEZONE:US/Eastern
REFRESH-INTERVAL;VALUE=DURATION:PT1H
X-Robots-Tag:noindex
X-PUBLISHED-TTL:PT1H
BEGIN:VTIMEZONE
TZID:US/Eastern
BEGIN:STANDARD
TZOFFSETFROM:-0400
TZOFFSETTO:-0500
DTSTART:20071104T020000
RRULE:FREQ=YEARLY;BYMONTH=11;BYDAY=1SU
END:STANDARD
BEGIN:DAYLIGHT
TZOFFSETFROM:-0500
TZOFFSETTO:-0400
DTSTART:20070311T020000
RRULE:FREQ=YEARLY;BYMONTH=3;BYDAY=2SU
END:DAYLIGHT
END:VTIMEZONE
BEGIN:VTIMEZONE
TZID:US/East-Indiana
BEGIN:STANDARD
TZOFFSETFROM:-0500
TZOFFSETTO:-0500
DTSTART:19701025T020000
END:STANDARD
END:VTIMEZONE
BEGIN:VTIMEZONE
TZID:US/Eastern
BEGIN:STANDARD
TZOFFSETFROM:-0400
TZOFFSETTO:-0500
DTSTART:19701025T020000
RRULE:FREQ=YEARLY;BYMONTH=10;BYDAY=-1SU;UNTIL=20070311T020000
END:STANDARD
BEGIN:STANDARD
TZOFFSETFROM:-0400
TZOFFSETTO:-0500
DTSTART:20071104T020000
RRULE:FREQ=YEARLY;BYMONTH=11;BYDAY=1SU
END:STANDARD
BEGIN:DAYLIGHT
TZOFFSETFROM:-0500
TZOFFSETTO:-0400
DTSTART:19870405T020000
RRULE:FREQ=YEARLY;BYMONTH=4;BYDAY=1SU;UNTIL=20061029T020000
END:DAYLIGHT
BEGIN:DAYLIGHT
TZOFFSETFROM:-0500
TZOFFSETTO:-0400
DTSTART:20070311T020000
RRULE:FREQ=YEARLY;BYMONTH=3;BYDAY=2SU
END:DAYLIGHT
END:VTIMEZONE
BEGIN:VTIMEZONE
TZID:US/Michigan
BEGIN:STANDARD
TZOFFSETFROM:-0400
TZOFFSETTO:-0500
DTSTART:19701025T020000
RRULE:FREQ=YEARLY;BYMONTH=10;BYDAY=-1SU;UNTIL=20070311T020000
END:STANDARD
BEGIN:STANDARD
TZOFFSETFROM:-0400
TZOFFSETTO:-0500
DTSTART:20071104T020000
RRULE:FREQ=YEARLY;BYMONTH=11;BYDAY=1SU
END:STANDARD
BEGIN:DAYLIGHT
TZOFFSETFROM:-0500
TZOFFSETTO:-0400
DTSTART:19870405T020000
RRULE:FREQ=YEARLY;BYMONTH=4;BYDAY=1SU;UNTIL=20061029T020000
END:DAYLIGHT
BEGIN:DAYLIGHT
TZOFFSETFROM:-0500
TZOFFSETTO:-0400
DTSTART:20070311T020000
RRULE:FREQ=YEARLY;BYMONTH=3;BYDAY=2SU
END:DAYLIGHT
END:VTIMEZONE
BEGIN:VTIMEZONE
TZID:US/Central
BEGIN:STANDARD
TZOFFSETFROM:-0500
TZOFFSETTO:-0600
DTSTART:19701025T020000
RRULE:FREQ=YEARLY;BYMONTH=10;BYDAY=-1SU;UNTIL=20070311T020000
END:STANDARD
BEGIN:STANDARD
TZOFFSETFROM:-0500
TZOFFSETTO:-0600
DTSTART:20071104T020000
RRULE:FREQ=YEARLY;BYMONTH=11;BYDAY=1SU
END:STANDARD
BEGIN:DAYLIGHT
TZOFFSETFROM:-0600
TZOFFSETTO:-0500
DTSTART:19870405T020000
RRULE:FREQ=YEARLY;BYMONTH=4;BYDAY=1SU;UNTIL=20061029T020000
END:DAYLIGHT
BEGIN:DAYLIGHT
TZOFFSETFROM:-0600
TZOFFSETTO:-0500
DTSTART:20070311T020000
RRULE:FREQ=YEARLY;BYMONTH=3;BYDAY=2SU
END:DAYLIGHT
END:VTIMEZONE
BEGIN:VTIMEZONE
TZID:US/Mountain
BEGIN:STANDARD
TZOFFSETFROM:-0600
TZOFFSETTO:-0700
DTSTART:19701025T020000
RRULE:FREQ=YEARLY;BYMONTH=10;BYDAY=-1SU;UNTIL=20070311T020000
END:STANDARD
BEGIN:STANDARD
TZOFFSETFROM:-0600
TZOFFSETTO:-0700
DTSTART:20071104T020000
RRULE:FREQ=YEARLY;BYMONTH=11;BYDAY=1SU
END:STANDARD
BEGIN:DAYLIGHT
TZOFFSETFROM:-0700
TZOFFSETTO:-0600
DTSTART:19870405T020000
RRULE:FREQ=YEARLY;BYMONTH=4;BYDAY=1SU;UNTIL=20061029T020000
END:DAYLIGHT
BEGIN:DAYLIGHT
TZOFFSETFROM:-0700
TZOFFSETTO:-0600
DTSTART:20070311T020000
RRULE:FREQ=YEARLY;BYMONTH=3;BYDAY=2SU
END:DAYLIGHT
END:VTIMEZONE
BEGIN:VTIMEZONE
TZID:US/Arizona
BEGIN:STANDARD
TZOFFSETFROM:-0700
TZOFFSETTO:-0700
DTSTART:19701025T020000
END:STANDARD
END:VTIMEZONE
BEGIN:VTIMEZONE
TZID:US/Pacific
BEGIN:STANDARD
TZOFFSETFROM:-0700
TZOFFSETTO:-0800
DTSTART:19701025T020000
RRULE:FREQ=YEARLY;BYMONTH=10;BYDAY=-1SU;UNTIL=20070311T020000
END:STANDARD
BEGIN:STANDARD
TZOFFSETFROM:-0700
TZOFFSETTO:-0800
DTSTART:20071104T020000
RRULE:FREQ=YEARLY;BYMONTH=11;BYDAY=1SU
END:STANDARD
BEGIN:DAYLIGHT
TZOFFSETFROM:-0800
TZOFFSETTO:-0700
DTSTART:19870405T020000
RRULE:FREQ=YEARLY;BYMONTH=4;BYDAY=1SU;UNTIL=20061029T020000
END:DAYLIGHT
BEGIN:DAYLIGHT
TZOFFSETFROM:-0800
TZOFFSETTO:-0700
DTSTART:20070311T020000
RRULE:FREQ=YEARLY;BYMONTH=3;BYDAY=2SU
END:DAYLIGHT
END:VTIMEZONE
BEGIN:VTIMEZONE
TZID:US/Alaska
BEGIN:STANDARD
TZOFFSETFROM:-0800
TZOFFSETTO:-0900
DTSTART:19701025T020000
RRULE:FREQ=YEARLY;BYMONTH=10;BYDAY=-1SU;UNTIL=20070311T020000
END:STANDARD
BEGIN:STANDARD
TZOFFSETFROM:-0800
TZOFFSETTO:-0900
DTSTART:20071104T020000
RRULE:FREQ=YEARLY;BYMONTH=11;BYDAY=1SU
END:STANDARD
BEGIN:DAYLIGHT
TZOFFSETFROM:-0900
TZOFFSETTO:-0800
DTSTART:19870405T020000
RRULE:FREQ=YEARLY;BYMONTH=4;BYDAY=1SU;UNTIL=20061029T020000
END:DAYLIGHT
BEGIN:DAYLIGHT
TZOFFSETFROM:-0900
TZOFFSETTO:-0800
DTSTART:20070311T020000
RRULE:FREQ=YEARLY;BYMONTH=3;BYDAY=2SU
END:DAYLIGHT
END:VTIMEZONE
BEGIN:VTIMEZONE
TZID:US/Hawaii
BEGIN:STANDARD
TZOFFSETFROM:-1000
TZOFFSETTO:-1000
DTSTART:19701025T020000
END:STANDARD
END:VTIMEZONE
BEGIN:VTIMEZONE
TZID:US/Aleutian
BEGIN:STANDARD
TZOFFSETFROM:-1000
TZOFFSETTO:-1000
DTSTART:19701025T020000
END:STANDARD
END:VTIMEZONE
BEGIN:VTIMEZONE
TZID:US/Samoa
BEGIN:STANDARD
TZOFFSETFROM:-1100
TZOFFSETTO:-1100
DTSTART:19701025T020000
END:STANDARD
END:VTIMEZONE
BEGIN:VEVENT
UID:11762581@www.pvrhs.org#20260424
SEQUENCE:0
CREATED:20260421T111415Z
LAST-MODIFIED:20260421T111415Z
DTSTART;TZID=US/Eastern:20260424T065900
DTEND;TZID=US/Eastern:20260424T070000
SUMMARY:Assignment: Are you taking an AP exam?
URL:https://www.pvrhs.org/apps/classes/1062551/assignments/#hw-11762581
ORGANIZER;CN="Edlio Calendar":MAILTO:noreply@www.pvrhs.org
DTSTAMP:20260424T032024Z
END:VEVENT
BEGIN:VEVENT
UID:11762582@www.pvrhs.org#20260424
SEQUENCE:0
CREATED:20260421T111415Z
LAST-MODIFIED:20260421T111415Z
DTSTART;TZID=US/Eastern:20260424T065900
DTEND;TZID=US/Eastern:20260424T070000
SUMMARY:Assignment: Are you taking an AP exam?
URL:https://www.pvrhs.org/apps/classes/1062551/assignments/#hw-11762582
ORGANIZER;CN="Edlio Calendar":MAILTO:noreply@www.pvrhs.org
DTSTAMP:20260424T032024Z
END:VEVENT
BEGIN:VEVENT
UID:11762583@www.pvrhs.org#20260424
SEQUENCE:0
CREATED:20260421T111415Z
LAST-MODIFIED:20260421T111415Z
DTSTART;TZID=US/Eastern:20260424T065900
DTEND;TZID=US/Eastern:20260424T070000
SUMMARY:Assignment: Are you taking an AP exam?
URL:https://www.pvrhs.org/apps/classes/1062551/assignments/#hw-11762583
ORGANIZER;CN="Edlio Calendar":MAILTO:noreply@www.pvrhs.org
DTSTAMP:20260424T032024Z
END:VEVENT
BEGIN:VEVENT
UID:11762584@www.pvrhs.org#20260424
SEQUENCE:0
CREATED:20260421T111415Z
LAST-MODIFIED:20260421T111415Z
DTSTART;TZID=US/Eastern:20260424T065900
DTEND;TZID=US/Eastern:20260424T070000
SUMMARY:Assignment: Are you taking an AP exam?
URL:https://www.pvrhs.org/apps/classes/1062551/assignments/#hw-11762584
ORGANIZER;CN="Edlio Calendar":MAILTO:noreply@www.pvrhs.org
DTSTAMP:20260424T032024Z
END:VEVENT
BEGIN:VEVENT
UID:11793647@www.pvrhs.org#20260501
SEQUENCE:0
CREATED:20260423T140626Z
LAST-MODIFIED:20260423T140626Z
DTSTART;TZID=US/Eastern:20260501T065900
DTEND;TZID=US/Eastern:20260501T070000
SUMMARY:Assignment: HOMEWORK! Final Grade Calculator
DESCRIPTION:1. Make a copy of the final grade calculator and attach it here
 .<br>2. Log on to the portal and copy your grades for MP1\, MP2\, MP3\, an
 d the midterm exam.<br>3. Play creative math by finding the numbers that w
 ill calculate to a minimum of 65. NOT 64.4\, 65!\n<a href=' https://www.pv
 rhs.org/apps/classes/1062551/assignments/#hw-11793647'>Read more</a>
URL:https://www.pvrhs.org/apps/classes/1062551/assignments/#hw-11793647
ORGANIZER;CN="Edlio Calendar":MAILTO:noreply@www.pvrhs.org
DTSTAMP:20260424T032024Z
END:VEVENT
BEGIN:VEVENT
UID:11793648@www.pvrhs.org#20260501
SEQUENCE:0
CREATED:20260423T140626Z
LAST-MODIFIED:20260423T140626Z
DTSTART;TZID=US/Eastern:20260501T065900
DTEND;TZID=US/Eastern:20260501T070000
SUMMARY:Assignment: HOMEWORK! Final Grade Calculator
DESCRIPTION:1. Make a copy of the final grade calculator and attach it here
 .<br>2. Log on to the portal and copy your grades for MP1\, MP2\, MP3\, an
 d the midterm exam.<br>3. Play creative math by finding the numbers that w
 ill calculate to a minimum of 65. NOT 64.4\, 65!\n<a href=' https://www.pv
 rhs.org/apps/classes/1062551/assignments/#hw-11793648'>Read more</a>
URL:https://www.pvrhs.org/apps/classes/1062551/assignments/#hw-11793648
ORGANIZER;CN="Edlio Calendar":MAILTO:noreply@www.pvrhs.org
DTSTAMP:20260424T032024Z
END:VEVENT
BEGIN:VEVENT
UID:11793652@www.pvrhs.org#20260501
SEQUENCE:0
CREATED:20260423T140628Z
LAST-MODIFIED:20260423T140628Z
DTSTART;TZID=US/Eastern:20260501T065900
DTEND;TZID=US/Eastern:20260501T070000
SUMMARY:Assignment: HOMEWORK! Final Grade Calculator
DESCRIPTION:1. Make a copy of the final grade calculator and attach it here
 .<br>2. Log on to the portal and copy your grades for MP1\, MP2\, MP3\, an
 d the midterm exam.<br>3. Play creative math by finding the numbers that w
 ill calculate to a minimum of 65. NOT 64.4\, 65!\n<a href=' https://www.pv
 rhs.org/apps/classes/1062551/assignments/#hw-11793652'>Read more</a>
URL:https://www.pvrhs.org/apps/classes/1062551/assignments/#hw-11793652
ORGANIZER;CN="Edlio Calendar":MAILTO:noreply@www.pvrhs.org
DTSTAMP:20260424T032024Z
END:VEVENT
BEGIN:VEVENT
UID:10825882@www.pvrhs.org#20260603
SEQUENCE:0
CREATED:20251203T103135Z
LAST-MODIFIED:20251203T103135Z
DTSTART;TZID=US/Eastern:20260603T082500
DTEND;TZID=US/Eastern:20260603T082600
SUMMARY:Assignment: P7 gatsby ch 1-5 vocab flashcards
DESCRIPTION:Click on the link below to start the game\n<a href=' https://ww
 w.pvrhs.org/apps/classes/1062551/assignments/#hw-10825882'>Read more</a>
URL:https://www.pvrhs.org/apps/classes/1062551/assignments/#hw-10825882
ORGANIZER;CN="Edlio Calendar":MAILTO:noreply@www.pvrhs.org
DTSTAMP:20260424T032024Z
END:VEVENT
BEGIN:VEVENT
UID:11332941@www.pvrhs.org#20260429
SEQUENCE:0
CREATED:20260401T111425Z
LAST-MODIFIED:20260401T111425Z
DTSTART;TZID=US/Eastern:20260429T235800
DTEND;TZID=US/Eastern:20260429T235900
SUMMARY:Assignment: EXTRA CREDIT- Poetry Contest
DESCRIPTION:Please see attached. Upload your submissions here.\n<a href=' h
 ttps://www.pvrhs.org/apps/classes/1062551/assignments/#hw-11332941'>Read m
 ore</a>
URL:https://www.pvrhs.org/apps/classes/1062551/assignments/#hw-11332941
ORGANIZER;CN="Edlio Calendar":MAILTO:noreply@www.pvrhs.org
DTSTAMP:20260424T032024Z
END:VEVENT
BEGIN:VEVENT
UID:11332942@www.pvrhs.org#20260429
SEQUENCE:0
CREATED:20260401T111425Z
LAST-MODIFIED:20260401T111425Z
DTSTART;TZID=US/Eastern:20260429T235800
DTEND;TZID=US/Eastern:20260429T235900
SUMMARY:Assignment: EXTRA CREDIT- Poetry Contest
DESCRIPTION:Please see attached. Upload your submissions here.\n<a href=' h
 ttps://www.pvrhs.org/apps/classes/1062551/assignments/#hw-11332942'>Read m
 ore</a>
URL:https://www.pvrhs.org/apps/classes/1062551/assignments/#hw-11332942
ORGANIZER;CN="Edlio Calendar":MAILTO:noreply@www.pvrhs.org
DTSTAMP:20260424T032024Z
END:VEVENT
BEGIN:VEVENT
UID:11332943@www.pvrhs.org#20260429
SEQUENCE:0
CREATED:20260401T111425Z
LAST-MODIFIED:20260401T111425Z
DTSTART;TZID=US/Eastern:20260429T235800
DTEND;TZID=US/Eastern:20260429T235900
SUMMARY:Assignment: EXTRA CREDIT- Poetry Contest
DESCRIPTION:Please see attached. Upload your submissions here.\n<a href=' h
 ttps://www.pvrhs.org/apps/classes/1062551/assignments/#hw-11332943'>Read m
 ore</a>
URL:https://www.pvrhs.org/apps/classes/1062551/assignments/#hw-11332943
ORGANIZER;CN="Edlio Calendar":MAILTO:noreply@www.pvrhs.org
DTSTAMP:20260424T032024Z
END:VEVENT
END:VCALENDAR
