BEGIN:VCALENDAR
VERSION:2.0
PRODID:-//Edlio Inc//Edlio Calendar//EN
CALSCALE:GREGORIAN
METHOD:PUBLISH
X-WR-CALNAME:PR 4 Intro to Art - Passaic Valley Regional High School
X-ORIGINAL-URL:https://www.pvrhs.org
X-WR-CALDESC:Events calendar for www.pvrhs.org
X-WR-TIMEZONE:US/Eastern
REFRESH-INTERVAL;VALUE=DURATION:PT1H
X-Robots-Tag:noindex
X-PUBLISHED-TTL:PT1H
BEGIN:VTIMEZONE
TZID:US/Eastern
BEGIN:STANDARD
TZOFFSETFROM:-0400
TZOFFSETTO:-0500
DTSTART:20071104T020000
RRULE:FREQ=YEARLY;BYMONTH=11;BYDAY=1SU
END:STANDARD
BEGIN:DAYLIGHT
TZOFFSETFROM:-0500
TZOFFSETTO:-0400
DTSTART:20070311T020000
RRULE:FREQ=YEARLY;BYMONTH=3;BYDAY=2SU
END:DAYLIGHT
END:VTIMEZONE
BEGIN:VTIMEZONE
TZID:US/East-Indiana
BEGIN:STANDARD
TZOFFSETFROM:-0500
TZOFFSETTO:-0500
DTSTART:19701025T020000
END:STANDARD
END:VTIMEZONE
BEGIN:VTIMEZONE
TZID:US/Eastern
BEGIN:STANDARD
TZOFFSETFROM:-0400
TZOFFSETTO:-0500
DTSTART:19701025T020000
RRULE:FREQ=YEARLY;BYMONTH=10;BYDAY=-1SU;UNTIL=20070311T020000
END:STANDARD
BEGIN:STANDARD
TZOFFSETFROM:-0400
TZOFFSETTO:-0500
DTSTART:20071104T020000
RRULE:FREQ=YEARLY;BYMONTH=11;BYDAY=1SU
END:STANDARD
BEGIN:DAYLIGHT
TZOFFSETFROM:-0500
TZOFFSETTO:-0400
DTSTART:19870405T020000
RRULE:FREQ=YEARLY;BYMONTH=4;BYDAY=1SU;UNTIL=20061029T020000
END:DAYLIGHT
BEGIN:DAYLIGHT
TZOFFSETFROM:-0500
TZOFFSETTO:-0400
DTSTART:20070311T020000
RRULE:FREQ=YEARLY;BYMONTH=3;BYDAY=2SU
END:DAYLIGHT
END:VTIMEZONE
BEGIN:VTIMEZONE
TZID:US/Michigan
BEGIN:STANDARD
TZOFFSETFROM:-0400
TZOFFSETTO:-0500
DTSTART:19701025T020000
RRULE:FREQ=YEARLY;BYMONTH=10;BYDAY=-1SU;UNTIL=20070311T020000
END:STANDARD
BEGIN:STANDARD
TZOFFSETFROM:-0400
TZOFFSETTO:-0500
DTSTART:20071104T020000
RRULE:FREQ=YEARLY;BYMONTH=11;BYDAY=1SU
END:STANDARD
BEGIN:DAYLIGHT
TZOFFSETFROM:-0500
TZOFFSETTO:-0400
DTSTART:19870405T020000
RRULE:FREQ=YEARLY;BYMONTH=4;BYDAY=1SU;UNTIL=20061029T020000
END:DAYLIGHT
BEGIN:DAYLIGHT
TZOFFSETFROM:-0500
TZOFFSETTO:-0400
DTSTART:20070311T020000
RRULE:FREQ=YEARLY;BYMONTH=3;BYDAY=2SU
END:DAYLIGHT
END:VTIMEZONE
BEGIN:VTIMEZONE
TZID:US/Central
BEGIN:STANDARD
TZOFFSETFROM:-0500
TZOFFSETTO:-0600
DTSTART:19701025T020000
RRULE:FREQ=YEARLY;BYMONTH=10;BYDAY=-1SU;UNTIL=20070311T020000
END:STANDARD
BEGIN:STANDARD
TZOFFSETFROM:-0500
TZOFFSETTO:-0600
DTSTART:20071104T020000
RRULE:FREQ=YEARLY;BYMONTH=11;BYDAY=1SU
END:STANDARD
BEGIN:DAYLIGHT
TZOFFSETFROM:-0600
TZOFFSETTO:-0500
DTSTART:19870405T020000
RRULE:FREQ=YEARLY;BYMONTH=4;BYDAY=1SU;UNTIL=20061029T020000
END:DAYLIGHT
BEGIN:DAYLIGHT
TZOFFSETFROM:-0600
TZOFFSETTO:-0500
DTSTART:20070311T020000
RRULE:FREQ=YEARLY;BYMONTH=3;BYDAY=2SU
END:DAYLIGHT
END:VTIMEZONE
BEGIN:VTIMEZONE
TZID:US/Mountain
BEGIN:STANDARD
TZOFFSETFROM:-0600
TZOFFSETTO:-0700
DTSTART:19701025T020000
RRULE:FREQ=YEARLY;BYMONTH=10;BYDAY=-1SU;UNTIL=20070311T020000
END:STANDARD
BEGIN:STANDARD
TZOFFSETFROM:-0600
TZOFFSETTO:-0700
DTSTART:20071104T020000
RRULE:FREQ=YEARLY;BYMONTH=11;BYDAY=1SU
END:STANDARD
BEGIN:DAYLIGHT
TZOFFSETFROM:-0700
TZOFFSETTO:-0600
DTSTART:19870405T020000
RRULE:FREQ=YEARLY;BYMONTH=4;BYDAY=1SU;UNTIL=20061029T020000
END:DAYLIGHT
BEGIN:DAYLIGHT
TZOFFSETFROM:-0700
TZOFFSETTO:-0600
DTSTART:20070311T020000
RRULE:FREQ=YEARLY;BYMONTH=3;BYDAY=2SU
END:DAYLIGHT
END:VTIMEZONE
BEGIN:VTIMEZONE
TZID:US/Arizona
BEGIN:STANDARD
TZOFFSETFROM:-0700
TZOFFSETTO:-0700
DTSTART:19701025T020000
END:STANDARD
END:VTIMEZONE
BEGIN:VTIMEZONE
TZID:US/Pacific
BEGIN:STANDARD
TZOFFSETFROM:-0700
TZOFFSETTO:-0800
DTSTART:19701025T020000
RRULE:FREQ=YEARLY;BYMONTH=10;BYDAY=-1SU;UNTIL=20070311T020000
END:STANDARD
BEGIN:STANDARD
TZOFFSETFROM:-0700
TZOFFSETTO:-0800
DTSTART:20071104T020000
RRULE:FREQ=YEARLY;BYMONTH=11;BYDAY=1SU
END:STANDARD
BEGIN:DAYLIGHT
TZOFFSETFROM:-0800
TZOFFSETTO:-0700
DTSTART:19870405T020000
RRULE:FREQ=YEARLY;BYMONTH=4;BYDAY=1SU;UNTIL=20061029T020000
END:DAYLIGHT
BEGIN:DAYLIGHT
TZOFFSETFROM:-0800
TZOFFSETTO:-0700
DTSTART:20070311T020000
RRULE:FREQ=YEARLY;BYMONTH=3;BYDAY=2SU
END:DAYLIGHT
END:VTIMEZONE
BEGIN:VTIMEZONE
TZID:US/Alaska
BEGIN:STANDARD
TZOFFSETFROM:-0800
TZOFFSETTO:-0900
DTSTART:19701025T020000
RRULE:FREQ=YEARLY;BYMONTH=10;BYDAY=-1SU;UNTIL=20070311T020000
END:STANDARD
BEGIN:STANDARD
TZOFFSETFROM:-0800
TZOFFSETTO:-0900
DTSTART:20071104T020000
RRULE:FREQ=YEARLY;BYMONTH=11;BYDAY=1SU
END:STANDARD
BEGIN:DAYLIGHT
TZOFFSETFROM:-0900
TZOFFSETTO:-0800
DTSTART:19870405T020000
RRULE:FREQ=YEARLY;BYMONTH=4;BYDAY=1SU;UNTIL=20061029T020000
END:DAYLIGHT
BEGIN:DAYLIGHT
TZOFFSETFROM:-0900
TZOFFSETTO:-0800
DTSTART:20070311T020000
RRULE:FREQ=YEARLY;BYMONTH=3;BYDAY=2SU
END:DAYLIGHT
END:VTIMEZONE
BEGIN:VTIMEZONE
TZID:US/Hawaii
BEGIN:STANDARD
TZOFFSETFROM:-1000
TZOFFSETTO:-1000
DTSTART:19701025T020000
END:STANDARD
END:VTIMEZONE
BEGIN:VTIMEZONE
TZID:US/Aleutian
BEGIN:STANDARD
TZOFFSETFROM:-1000
TZOFFSETTO:-1000
DTSTART:19701025T020000
END:STANDARD
END:VTIMEZONE
BEGIN:VTIMEZONE
TZID:US/Samoa
BEGIN:STANDARD
TZOFFSETFROM:-1100
TZOFFSETTO:-1100
DTSTART:19701025T020000
END:STANDARD
END:VTIMEZONE
BEGIN:VEVENT
UID:11595475@www.pvrhs.org#20260501
SEQUENCE:0
CREATED:20260413T111713Z
LAST-MODIFIED:20260413T111713Z
DTSTART;TZID=US/Eastern:20260501T235800
DTEND;TZID=US/Eastern:20260501T235900
SUMMARY:Assignment: APRIL SKETCHBOOK
DESCRIPTION:Week of the 13th-17th- FIREFLY<br>Week of the 20th- 24th - INFE
 RNO<br>Week of the 27th- MAy 1st- ONION\n<a href=' https://www.pvrhs.org/a
 pps/classes/1062502/assignments/#hw-11595475'>Read more</a>
URL:https://www.pvrhs.org/apps/classes/1062502/assignments/#hw-11595475
ORGANIZER;CN="Edlio Calendar":MAILTO:noreply@www.pvrhs.org
DTSTAMP:20260425T202115Z
END:VEVENT
BEGIN:VEVENT
UID:11595476@www.pvrhs.org#20260501
SEQUENCE:0
CREATED:20260413T111713Z
LAST-MODIFIED:20260413T111713Z
DTSTART;TZID=US/Eastern:20260501T235800
DTEND;TZID=US/Eastern:20260501T235900
SUMMARY:Assignment: APRIL SKETCHBOOK
DESCRIPTION:Week of the 13th-17th- FIREFLY<br>Week of the 20th- 24th - INFE
 RNO<br>Week of the 27th- MAy 1st- ONION\n<a href=' https://www.pvrhs.org/a
 pps/classes/1062502/assignments/#hw-11595476'>Read more</a>
URL:https://www.pvrhs.org/apps/classes/1062502/assignments/#hw-11595476
ORGANIZER;CN="Edlio Calendar":MAILTO:noreply@www.pvrhs.org
DTSTAMP:20260425T202115Z
END:VEVENT
BEGIN:VEVENT
UID:11595477@www.pvrhs.org#20260501
SEQUENCE:0
CREATED:20260413T111714Z
LAST-MODIFIED:20260413T111714Z
DTSTART;TZID=US/Eastern:20260501T235800
DTEND;TZID=US/Eastern:20260501T235900
SUMMARY:Assignment: APRIL SKETCHBOOK
DESCRIPTION:Week of the 13th-17th- FIREFLY<br>Week of the 20th- 24th - INFE
 RNO<br>Week of the 27th- MAy 1st- ONION\n<a href=' https://www.pvrhs.org/a
 pps/classes/1062502/assignments/#hw-11595477'>Read more</a>
URL:https://www.pvrhs.org/apps/classes/1062502/assignments/#hw-11595477
ORGANIZER;CN="Edlio Calendar":MAILTO:noreply@www.pvrhs.org
DTSTAMP:20260425T202115Z
END:VEVENT
BEGIN:VEVENT
UID:11595478@www.pvrhs.org#20260501
SEQUENCE:0
CREATED:20260414T111358Z
LAST-MODIFIED:20260414T111358Z
DTSTART;TZID=US/Eastern:20260501T235800
DTEND;TZID=US/Eastern:20260501T235900
SUMMARY:Assignment: APRIL SKETCHBOOK
DESCRIPTION:Week of the 13th-17th- FIREFLY<br>Week of the 20th- 24th - INFE
 RNO<br>Week of the 27th- MAy 1st- ONION<br><br>ALL APRIL SKETCHES SHOULD B
 E ACCOMPANIED BY A REFERENCE PHOTO IN WHICH YOU HAVE CHANGED AT LEAST 60% 
 OF THE IMAGE TO MAKE IT YOUR OWN.\n<a href=' https://www.pvrhs.org/apps/cl
 asses/1062502/assignments/#hw-11595478'>Read more</a>
URL:https://www.pvrhs.org/apps/classes/1062502/assignments/#hw-11595478
ORGANIZER;CN="Edlio Calendar":MAILTO:noreply@www.pvrhs.org
DTSTAMP:20260425T202115Z
END:VEVENT
BEGIN:VEVENT
UID:11784143@www.pvrhs.org#20260529
SEQUENCE:0
CREATED:20260422T141538Z
LAST-MODIFIED:20260422T141538Z
DTSTART;TZID=US/Eastern:20260529T235800
DTEND;TZID=US/Eastern:20260529T235900
SUMMARY:Assignment: COIL BASKET
DESCRIPTION:Requirements:  At least a 4"-5"  high basket with at least two 
 colors and a 4" base.<br>Extra credit on this assignment will be given for
  students who do any of the following:<br>Add handles\, add embellishments
  like beads\, create intricate patterns or create a "vase" where the form 
 moves both in a\n<a href=' https://www.pvrhs.org/apps/classes/1062502/assi
 gnments/#hw-11784143'>Read more</a>
URL:https://www.pvrhs.org/apps/classes/1062502/assignments/#hw-11784143
ORGANIZER;CN="Edlio Calendar":MAILTO:noreply@www.pvrhs.org
DTSTAMP:20260425T202115Z
END:VEVENT
BEGIN:VEVENT
UID:11784144@www.pvrhs.org#20260529
SEQUENCE:0
CREATED:20260422T141538Z
LAST-MODIFIED:20260422T141538Z
DTSTART;TZID=US/Eastern:20260529T235800
DTEND;TZID=US/Eastern:20260529T235900
SUMMARY:Assignment: COIL BASKET
DESCRIPTION:Requirements:  At least a 4"-5"  high basket with at least two 
 colors and a 4" base.<br>Extra credit on this assignment will be given for
  students who do any of the following:<br>Add handles\, add embellishments
  like beads\, create intricate patterns or create a "vase" where the form 
 moves both in a\n<a href=' https://www.pvrhs.org/apps/classes/1062502/assi
 gnments/#hw-11784144'>Read more</a>
URL:https://www.pvrhs.org/apps/classes/1062502/assignments/#hw-11784144
ORGANIZER;CN="Edlio Calendar":MAILTO:noreply@www.pvrhs.org
DTSTAMP:20260425T202115Z
END:VEVENT
BEGIN:VEVENT
UID:11793426@www.pvrhs.org#20260429
SEQUENCE:0
CREATED:20260423T111916Z
LAST-MODIFIED:20260423T111916Z
DTSTART;TZID=US/Eastern:20260429T235800
DTEND;TZID=US/Eastern:20260429T235900
SUMMARY:Assignment: COMPLETED LETTER
DESCRIPTION:Please take a photo of all sides\n<a href=' https://www.pvrhs.o
 rg/apps/classes/1062502/assignments/#hw-11793426'>Read more</a>
URL:https://www.pvrhs.org/apps/classes/1062502/assignments/#hw-11793426
ORGANIZER;CN="Edlio Calendar":MAILTO:noreply@www.pvrhs.org
DTSTAMP:20260425T202115Z
END:VEVENT
BEGIN:VEVENT
UID:11793427@www.pvrhs.org#20260429
SEQUENCE:0
CREATED:20260423T111916Z
LAST-MODIFIED:20260423T111916Z
DTSTART;TZID=US/Eastern:20260429T235800
DTEND;TZID=US/Eastern:20260429T235900
SUMMARY:Assignment: COMPLETED LETTER
DESCRIPTION:Please take a photo of all sides\n<a href=' https://www.pvrhs.o
 rg/apps/classes/1062502/assignments/#hw-11793427'>Read more</a>
URL:https://www.pvrhs.org/apps/classes/1062502/assignments/#hw-11793427
ORGANIZER;CN="Edlio Calendar":MAILTO:noreply@www.pvrhs.org
DTSTAMP:20260425T202115Z
END:VEVENT
BEGIN:VEVENT
UID:11793428@www.pvrhs.org#20260429
SEQUENCE:0
CREATED:20260423T111916Z
LAST-MODIFIED:20260423T111916Z
DTSTART;TZID=US/Eastern:20260429T235800
DTEND;TZID=US/Eastern:20260429T235900
SUMMARY:Assignment: COMPLETED LETTER
DESCRIPTION:Please take a photo of all sides\n<a href=' https://www.pvrhs.o
 rg/apps/classes/1062502/assignments/#hw-11793428'>Read more</a>
URL:https://www.pvrhs.org/apps/classes/1062502/assignments/#hw-11793428
ORGANIZER;CN="Edlio Calendar":MAILTO:noreply@www.pvrhs.org
DTSTAMP:20260425T202115Z
END:VEVENT
BEGIN:VEVENT
UID:11234985@www.pvrhs.org#20260429
SEQUENCE:0
CREATED:20260422T141538Z
LAST-MODIFIED:20260422T141538Z
DTSTART;TZID=US/Eastern:20260429T235800
DTEND;TZID=US/Eastern:20260429T235900
SUMMARY:Assignment: LETTER IDEA
DESCRIPTION:Please post your letter design and images of front and bac and 
 sides.<br>Your Letter idea should be drawn accurately in 1 point perspecti
 ve\, labeled with what the images will be made of\, collaged\, painted\, a
 dded etc.\n<a href=' https://www.pvrhs.org/apps/classes/1062502/assignment
 s/#hw-11234985'>Read more</a>
URL:https://www.pvrhs.org/apps/classes/1062502/assignments/#hw-11234985
ORGANIZER;CN="Edlio Calendar":MAILTO:noreply@www.pvrhs.org
DTSTAMP:20260425T202115Z
END:VEVENT
END:VCALENDAR
